BEGIN:VCALENDAR
VERSION:2.0
PRODID:-//CNCA - ECPv6.15.15//NONSGML v1.0//EN
CALSCALE:GREGORIAN
METHOD:PUBLISH
X-ORIGINAL-URL:https://cnca.ro
X-WR-CALDESC:Evenimente pentru CNCA
REFRESH-INTERVAL;VALUE=DURATION:PT1H
X-Robots-Tag:noindex
X-PUBLISHED-TTL:PT1H
BEGIN:VTIMEZONE
TZID:UTC
BEGIN:STANDARD
TZOFFSETFROM:+0000
TZOFFSETTO:+0000
TZNAME:UTC
DTSTART:20150101T000000
END:STANDARD
END:VTIMEZONE
BEGIN:VEVENT
DTSTART;TZID=UTC:20161011T080000
DTEND;TZID=UTC:20161016T170000
DTSTAMP:20260419T234102
CREATED:20161010T210054Z
LAST-MODIFIED:20260129T133125Z
UID:1072-1476172800-1476637200@cnca.ro
SUMMARY:Concurs Cacit 11-16 Octombrie 2016 (Craiova-Calafat)
DESCRIPTION:In perioada 11 – 16 octombrie la Craiova – Calafat\, CNCA organizeaza 6 zile de CACIT (field trial pe potarniche naturala) pentru caini pontatori continentali si insulari. Probele sunt recunoscute international de catre FCI – AChR\, sub egida carora sunt organizate.\nPentru informatii suplimentare si inscrieri va rugam contactati dna.  Mariana Murarescu la telefon: 0744537477\, fax: 0244577799 sau e-mail: clubcnca@yahoo.com  \nVa asteptam!
URL:https://cnca.ro/eveniment/concurs-cacit-11-16-octombrie-2016-craiova-calafat/
LOCATION:Calafat\, Calafat\, Craiova\, 205200
CATEGORIES:Evenimente
ORGANIZER;CN="Clubul National Caini De Aret sub egida A.C.H.R. & F.C.I.":MAILTO:clubcnca@yahoo.com
END:VEVENT
BEGIN:VEVENT
DTSTART;TZID=UTC:20160330T083000
DTEND;TZID=UTC:20160331T170000
DTSTAMP:20260419T234103
CREATED:20160329T210024Z
LAST-MODIFIED:20260115T112616Z
UID:1079-1459326600-1459443600@cnca.ro
SUMMARY:Concurs 30-31 Martie (Ploiesti)
DESCRIPTION:Expozitia de Club va incepe la ora 9\,00 (va rugam sa fiti prezenti in jurul orei 8\,30 – pentru a nu intarzia probele de lucru ce se vor desfasura imediat dupa standard) la Parcul Bucov – Poligonul AJVPS. \nProbele de lucru se vor desfasura in continuare\, pe fondul Plopu\, localitatea Bucov – in imediata vecinatate a parcului. In cazul in care nu vor putea fi examinati la examenele de lucru toti cainii sambata\, vom continua duminica (31.03) dupa programul ce va fi stabilit pe loc.\nPentru orice detalii\, relatii suplimentare va rog sa contactati telefonic: Mariana Murarescu – 0744537477.\nIncercam sa organizam toate probele in aceeasi zi\, de aceea va rugam sa fiti punctuali la Expozitia de club ! \nAccesati AICI linkul concursului.
URL:https://cnca.ro/eveniment/program-concurs-ploiesti-30-31-martie/
LOCATION:Ploiesti\, Parcul Bucov - Poligonul AJVPS\, Ploiesti\, Prahova\, Romania
CATEGORIES:Evenimente
ORGANIZER;CN="Clubul National Caini De Aret sub egida A.C.H.R. & F.C.I.":MAILTO:clubcnca@yahoo.com
END:VEVENT
END:VCALENDAR