BEGIN:VCALENDAR
VERSION:2.0
PRODID:-//CNCA - ECPv6.15.15//NONSGML v1.0//EN
CALSCALE:GREGORIAN
METHOD:PUBLISH
X-WR-CALNAME:CNCA
X-ORIGINAL-URL:https://cnca.ro
X-WR-CALDESC:Evenimente pentru CNCA
REFRESH-INTERVAL;VALUE=DURATION:PT1H
X-Robots-Tag:noindex
X-PUBLISHED-TTL:PT1H
BEGIN:VTIMEZONE
TZID:Europe/Bucharest
BEGIN:DAYLIGHT
TZOFFSETFROM:+0200
TZOFFSETTO:+0300
TZNAME:EEST
DTSTART:20160327T010000
END:DAYLIGHT
BEGIN:STANDARD
TZOFFSETFROM:+0300
TZOFFSETTO:+0200
TZNAME:EET
DTSTART:20161030T010000
END:STANDARD
BEGIN:DAYLIGHT
TZOFFSETFROM:+0200
TZOFFSETTO:+0300
TZNAME:EEST
DTSTART:20170326T010000
END:DAYLIGHT
BEGIN:STANDARD
TZOFFSETFROM:+0300
TZOFFSETTO:+0200
TZNAME:EET
DTSTART:20171029T010000
END:STANDARD
BEGIN:DAYLIGHT
TZOFFSETFROM:+0200
TZOFFSETTO:+0300
TZNAME:EEST
DTSTART:20180325T010000
END:DAYLIGHT
BEGIN:STANDARD
TZOFFSETFROM:+0300
TZOFFSETTO:+0200
TZNAME:EET
DTSTART:20181028T010000
END:STANDARD
BEGIN:DAYLIGHT
TZOFFSETFROM:+0200
TZOFFSETTO:+0300
TZNAME:EEST
DTSTART:20190331T010000
END:DAYLIGHT
BEGIN:STANDARD
TZOFFSETFROM:+0300
TZOFFSETTO:+0200
TZNAME:EET
DTSTART:20191027T010000
END:STANDARD
BEGIN:DAYLIGHT
TZOFFSETFROM:+0200
TZOFFSETTO:+0300
TZNAME:EEST
DTSTART:20200329T010000
END:DAYLIGHT
BEGIN:STANDARD
TZOFFSETFROM:+0300
TZOFFSETTO:+0200
TZNAME:EET
DTSTART:20201025T010000
END:STANDARD
BEGIN:DAYLIGHT
TZOFFSETFROM:+0200
TZOFFSETTO:+0300
TZNAME:EEST
DTSTART:20210328T010000
END:DAYLIGHT
BEGIN:STANDARD
TZOFFSETFROM:+0300
TZOFFSETTO:+0200
TZNAME:EET
DTSTART:20211031T010000
END:STANDARD
BEGIN:DAYLIGHT
TZOFFSETFROM:+0200
TZOFFSETTO:+0300
TZNAME:EEST
DTSTART:20220327T010000
END:DAYLIGHT
BEGIN:STANDARD
TZOFFSETFROM:+0300
TZOFFSETTO:+0200
TZNAME:EET
DTSTART:20221030T010000
END:STANDARD
BEGIN:DAYLIGHT
TZOFFSETFROM:+0200
TZOFFSETTO:+0300
TZNAME:EEST
DTSTART:20230326T010000
END:DAYLIGHT
BEGIN:STANDARD
TZOFFSETFROM:+0300
TZOFFSETTO:+0200
TZNAME:EET
DTSTART:20231029T010000
END:STANDARD
BEGIN:DAYLIGHT
TZOFFSETFROM:+0200
TZOFFSETTO:+0300
TZNAME:EEST
DTSTART:20240331T010000
END:DAYLIGHT
BEGIN:STANDARD
TZOFFSETFROM:+0300
TZOFFSETTO:+0200
TZNAME:EET
DTSTART:20241027T010000
END:STANDARD
BEGIN:DAYLIGHT
TZOFFSETFROM:+0200
TZOFFSETTO:+0300
TZNAME:EEST
DTSTART:20250330T010000
END:DAYLIGHT
BEGIN:STANDARD
TZOFFSETFROM:+0300
TZOFFSETTO:+0200
TZNAME:EET
DTSTART:20251026T010000
END:STANDARD
BEGIN:DAYLIGHT
TZOFFSETFROM:+0200
TZOFFSETTO:+0300
TZNAME:EEST
DTSTART:20260329T010000
END:DAYLIGHT
BEGIN:STANDARD
TZOFFSETFROM:+0300
TZOFFSETTO:+0200
TZNAME:EET
DTSTART:20261025T010000
END:STANDARD
BEGIN:DAYLIGHT
TZOFFSETFROM:+0200
TZOFFSETTO:+0300
TZNAME:EEST
DTSTART:20270328T010000
END:DAYLIGHT
BEGIN:STANDARD
TZOFFSETFROM:+0300
TZOFFSETTO:+0200
TZNAME:EET
DTSTART:20271031T010000
END:STANDARD
END:VTIMEZONE
BEGIN:VTIMEZONE
TZID:UTC
BEGIN:STANDARD
TZOFFSETFROM:+0000
TZOFFSETTO:+0000
TZNAME:UTC
DTSTART:20150101T000000
END:STANDARD
END:VTIMEZONE
BEGIN:VEVENT
DTSTART;TZID=Europe/Bucharest:20260326T080000
DTEND;TZID=Europe/Bucharest:20260330T170000
DTSTAMP:20260419T203510
CREATED:20260127T220131Z
LAST-MODIFIED:20260128T131152Z
UID:26355-1774512000-1774890000@cnca.ro
SUMMARY:Competitii CACIT la Caracal in perioada 26 – 30 martie 2026
DESCRIPTION:In perioada 26 – 30 martie 2026 se vor desfasura la Caracal competitiile CACIT – field trial de primavara\, la care va invitam sa participati.\n\nCompetitiile se vor desfasura sub egida AChR – FCI\, conform regulamentelor internationale\, cu acordare de titluri CACIT (care conteaza pentru obtinerea titlului de Campion International de Munca).\n\nDeasemenea un calificativ de minim Foarte Bine conteaza pentru obtinerea Certificatului International de Munca.\n\nOrice alt calificativ este recomandat pentru obtinerea dreptului de reproductie (conform regulamentului AChR dreptul de reproductie este recomandat cu minim TAN – admis).
URL:https://cnca.ro/eveniment/competitii-cacit-la-caracal-in-perioada-26-30-martie-2026/
CATEGORIES:Evenimente
ORGANIZER;CN="Clubul National Caini De Aret sub egida A.C.H.R. & F.C.I.":MAILTO:clubcnca@yahoo.com
END:VEVENT
BEGIN:VEVENT
DTSTART;TZID=Europe/Bucharest:20260321T080000
DTEND;TZID=Europe/Bucharest:20260322T170000
DTSTAMP:20260419T203510
CREATED:20260127T220036Z
LAST-MODIFIED:20260128T130533Z
UID:26353-1774080000-1774198800@cnca.ro
SUMMARY:Probe de lucru DERBY\,VJP 21-22 martie 2026 FOCSANI (VRANCEA)
DESCRIPTION:In perioada 21 – 22 martie 2026 se vor desfasura la Focsani competitiile DERBY\,VJP la care va invitam sa participati.\n\nCompetitiile se vor desfasura sub egida AChR – FCI\, conform regulamentelor nationale.\n\nCalificativele sunt recomandate pentru obtinerea dreptului de reproductie (conform regulamentului AChR recomandat minim TAN – admis).
URL:https://cnca.ro/eveniment/probe-de-lucru-derbyvjp-21-22-martie-2026-focsani-vrancea/
CATEGORIES:Evenimente
ORGANIZER;CN="Clubul National Caini De Aret sub egida A.C.H.R. & F.C.I.":MAILTO:clubcnca@yahoo.com
END:VEVENT
BEGIN:VEVENT
DTSTART;TZID=Europe/Bucharest:20250326T080000
DTEND;TZID=Europe/Bucharest:20250330T170000
DTSTAMP:20260419T203510
CREATED:20250325T220038Z
LAST-MODIFIED:20260115T114519Z
UID:26269-1742976000-1743354000@cnca.ro
SUMMARY:Competitii CACIT la Caracal in perioada 26 - 30 martie 2025
DESCRIPTION:In perioada 26 – 30 martie 2025 se vor desfasura la Caracal competitiile CACIT – field trial de primavara\, la care va invitam sa participati.\n\nCompetitiile se vor desfasura sub egida AChR – FCI\, conform regulamentelor internationale\, cu acordare de titluri CACIT (care conteaza pentru obtinerea titlului de Campion International de Munca).\n\nDeasemenea un calificativ de minim Foarte Bine conteaza pentru obtinerea Certificatului International de Munca.\n\nOrice alt calificativ este luat in calcul pentru obtinerea dreptului de reproductie (conform regulamentului AChR dreptul de reproductie se obtine cu minim TAN – admis).
URL:https://cnca.ro/eveniment/competitii-cacit-la-caracal-in-perioada-26-30-martie-2025/
ORGANIZER;CN="Clubul National Caini de Aret Romania%2C sub egida A.C.H.R & F.C.I":MAILTO:clubcnca@yahoo.com
END:VEVENT
BEGIN:VEVENT
DTSTART;TZID=Europe/Bucharest:20250323T070000
DTEND;TZID=Europe/Bucharest:20250323T170000
DTSTAMP:20260419T203510
CREATED:20250311T105036Z
LAST-MODIFIED:20250311T112045Z
UID:26251-1742713200-1742749200@cnca.ro
SUMMARY:Competitii TAN si CACT la Buzau in data de 23 martie 2025
DESCRIPTION:In data de 23 martie 2025 CNCA va organiza la Buzau competitii TAN si CACT pentru caini de aret.\n\nCompetitile sunt cuprinse in calendarul oficial AChR. Pe web_site-ul oficial al AChR gasiti si regulamenetle conform carora se vor desfasura aceste probe de lucru.\n\nCei care doresc sa participe sunt rugati sa trimita inscrierile pe adresa de e_mail: clubcnca@yahoo.com .\n\nPentru detalii va rugam sa contactati telefonic: 0744537477\nVa vom tine la curent cu toate informatiile in timp util.
URL:https://cnca.ro/eveniment/competitii-tan-si-cact-la-buzau-in-data-de-23-martie-2025/
ORGANIZER;CN="Clubul National Caini de Aret Romania%2C sub egida A.C.H.R & F.C.I":MAILTO:clubcnca@yahoo.com
END:VEVENT
BEGIN:VEVENT
DTSTART;TZID=Europe/Bucharest:20250315T080000
DTEND;TZID=Europe/Bucharest:20250322T170000
DTSTAMP:20260419T203510
CREATED:20250311T081041Z
LAST-MODIFIED:20250313T101333Z
UID:26265-1742025600-1742662800@cnca.ro
SUMMARY:Campionatele anuale field trial de primavara in perioada 15-22 martie 2025
DESCRIPTION:In luna martie se vor desfasura in Italia – Bagnoregio „Carbonara” campionatele anuale field trial de primavara (vanatoare pe potarnichi) la care CNCA – Romania intentioneaza sa participe cu echipe\, astfel:\n\n15 – 16 martie – Cupa Europei pentru caini de aret continentali\n19 – 20 martie – Campionatul Mondial pentru Bracul German cu Par Scurt\n20 – 22 martie – Campionatul de primavara pentru Epagneul Breton\n\n\n\nCei interesati sa participe la aceste competitii sunt rugati sa transmita intentia la secretariatul CNCA pana cel tarziu 20 februarie:\ne_mail: clubcnca@yahoo.com\nwhatssapp: 0744537477\n\nToate cheltuielile aferente (drum\, cazare\, masa\, inscrieri) vor fi suportate de proprietarii cainilor.\n\nConditiile obligatorii sunt urmatoarele:\n– proprietarii cainilor sa fie membri ai CNCA si sa aiba domiciliul sau rezidenta in Romania\n– cainii sa aiba pedigree romanesc sau de export nostrificat la COR cu cel putin un an inainte de data campionatelor\n– cainii sa aiba rezultate in competitiile de tip field trial de primavara din Romania si/sau din strainatate\n\n\n\nMultumim conducerii AChR pentru sustinere!
URL:https://cnca.ro/eveniment/campionatele-anuale-field-trial-de-primavara-in-perioada-15-22-martie-2025/
END:VEVENT
BEGIN:VEVENT
DTSTART;VALUE=DATE:20240326
DTEND;VALUE=DATE:20240331
DTSTAMP:20260419T203510
CREATED:20240611T105651Z
LAST-MODIFIED:20240613T071854Z
UID:26213-1711411200-1711843199@cnca.ro
SUMMARY:Competiţii de tip field trial CACIT la Caracal/Calafat – 26-30 martie 2024
DESCRIPTION:In perioada 26 – 30 martie 2024 se desfasura la Caracal competitii CACIT pentru caini de aret insulari si continentali (field trial de primavara: caccia starne si grande cerca).\n\nCompetitiile sunt cuprinse in calendarul AChR – FCI.
URL:https://cnca.ro/eveniment/competitii-de-tip-field-trial-cacit-26-30-martie-2024/
LOCATION:Calafat\, Calafat\, Craiova\, 205200
CATEGORIES:Evenimente
ORGANIZER;CN="Clubul National Caini De Aret sub egida A.C.H.R. & F.C.I.":MAILTO:clubcnca@yahoo.com
END:VEVENT
BEGIN:VEVENT
DTSTART;VALUE=DATE:20240323
DTEND;VALUE=DATE:20240325
DTSTAMP:20260419T203510
CREATED:20240611T105048Z
LAST-MODIFIED:20240613T071854Z
UID:26209-1711152000-1711324799@cnca.ro
SUMMARY:Competiţii de tip TAN şi field trial CACT la Buzău - 23-24 martie 2024
DESCRIPTION:Probele organizate de CNCA\, sunt cuprinse in calendarul AChR si recunoscute FCI. Rezultatele obtinute in aceste competitii (TAN admis si orice calificativ in CACT) conteaza pentru obtinerea dreptului de monta\, conform noului regulament AChR care a intrat in vigoare incepand cu 01 noiembrie 2023.
URL:https://cnca.ro/eveniment/competitii-de-tip-tan-si-field-trial-cact-23-24-martie-2024/
LOCATION:Moara Dragaicilor\, E85 1\, Mărăcineni\, Mărăcineni\, Buzau\, România
CATEGORIES:Evenimente
ORGANIZER;CN="Clubul National Caini De Aret sub egida A.C.H.R. & F.C.I.":MAILTO:clubcnca@yahoo.com
END:VEVENT
BEGIN:VEVENT
DTSTART;TZID=Europe/Bucharest:20191003T080000
DTEND;TZID=Europe/Bucharest:20191006T170000
DTSTAMP:20260419T203510
CREATED:20190915T182355Z
LAST-MODIFIED:20240613T071854Z
UID:26191-1570089600-1570381200@cnca.ro
SUMMARY:Concurs C.A.C.I.T. 3-6 octombrie 2019 CRAIOVA (Calafat) pentru caini de aret
DESCRIPTION:In perioada 3 – 6 octombrie\, sub egida AChR – FCI\, CNCA organizeaza 4 zile de CACIT pentru caini de aret continentali si insulari (field trial de toamna) in zona Craiova – Calafat\, pe fondurile de vanatoare puse la dispozitie\, ca de fiecare data\, de Asociatia de Vanatoare Artemis (dl. Valentin Udrea). \nArbitri invitati vor fi din: Italia\, Serbia\, Bulgaria\, Romania.\nPentru informatii suplimentare si inscrieri va rugam contactati dna. Mariana Murarescu la telefon: 0744537477\, fax: 0244577799 sau e-mail:  clubcnca@yahoo.com \nMariana Murarescu \nPresedinte Interimar \nClubul National Caini de Aret\nwww.cnca.ro\nclubcnca@yahoo.com
URL:https://cnca.ro/eveniment/concurs-c-a-c-i-t-3-6-octombrie-2019-craiova-calafat-pentru-caini-de-aret/
LOCATION:Calafat\, Calafat\, Craiova\, 205200
CATEGORIES:Evenimente
END:VEVENT
BEGIN:VEVENT
DTSTART;TZID=Europe/Bucharest:20190921T100000
DTEND;TZID=Europe/Bucharest:20190921T120000
DTSTAMP:20260419T203510
CREATED:20190901T184516Z
LAST-MODIFIED:20190919T131230Z
UID:26185-1569060000-1569067200@cnca.ro
SUMMARY:Adunarea Generala CNCA 2019
DESCRIPTION:Dragi prieteni\, \nVa reamintesc ca Adunarea Generala a CNCA va avea loc sambata\, 21 septembrie. Din pacate\, datorita numarului redus de participanti care au confirmat prezenta din centrul si vestul tarii\, locatia a fost schimbata. Astfel\, sedinta va avea loc la Bucuresti\, hotel CARO\, sala Rebreanu incepand cu ora 10.00.  \n\n    \nOrdinea de zi este urmatoarea:\n– raport financiar contabil 2018\n– raport activitate 2018\n– discutii libere/propuneri \nLa adunare sunt invitati sa participe membrii CNCA cu cotizatia achitata la zi.Mai jos gasiti lista persoanelor care au achitat cotizatia pana pe data de 31 augsut 2019: \n\n1.Bajenaru Oana \n\n2.Bria Alexandru \n\n3.Bria Larisa \n\n4.Costa Gheorghe \n\n5.Dordea Vlad \n\n6.Eremia Andrei \n\n7.Favretto Aldo \n\n8.Flutur Sorin \n\n9.Gaciu Marius \n\n10.Ghiu Dan \n\n11.Gridan Alexandru \n\n12.Ionescu Dan \n\n13.Misici Cristian \n\n14.Mocanu Dan \n\n15.Marin Ionut Mircea \n16.Murarescu Daniel \n\n19.Piroi Ionut \n\n20.Sabau Florin \n\n21.Tenghea Cosmin \n\n22.Todea Ciprian \nPersoanele care au fost membre CNCA anii trecuti si care doresc sa participe la adunare vor trebui sa achite cotizatia pana in ziua adunarii\, insa nu vor avea drept de vot. \nCu stima\, \nIng. Mariana Murarescu\, \nPresedinte interimar\nClubul National Caini de Aret\nwww.cnca.ro\nclubcnca@yahoo.com 
URL:https://cnca.ro/eveniment/adunarea-generala-cnca-2019/
LOCATION:Hotel CARO\, Bdul Barbu Vacarescu nr. 164A\, Bucuresti\, Sector 2\, România
END:VEVENT
BEGIN:VEVENT
DTSTART;TZID=Europe/Bucharest:20180215T080000
DTEND;TZID=Europe/Bucharest:20180215T170000
DTSTAMP:20260419T203510
CREATED:20180215T093329Z
LAST-MODIFIED:20180215T093329Z
UID:26139-1518681600-1518714000@cnca.ro
SUMMARY:29.03. 2018-01.04.2018- CRAIOVA- Field Trial Primavara (5XCACIT Insulari\, 5XCACIT Continentali)
DESCRIPTION: 
URL:https://cnca.ro/eveniment/29-03-2018-01-04-2018-craiova-field-trial-primavara-5xcacit-insulari-5xcacit-continentali/
END:VEVENT
BEGIN:VEVENT
DTSTART;TZID=Europe/Bucharest:20171028T070000
DTEND;TZID=Europe/Bucharest:20171029T170000
DTSTAMP:20260419T203510
CREATED:20171004T075359Z
LAST-MODIFIED:20171004T080006Z
UID:26104-1509174000-1509296400@cnca.ro
SUMMARY:Probe lucru SOLMS\, AZP 28-29 octombrie 2017 - Balaia\, Oradea
DESCRIPTION:In perioada 28-29 octombrie 2017 in localitatea Balaia\, jud. Bihor\, CNCA organizeaza 2 zile de probe de lucru pentru caini pontatori: SOLMS\, AZP\, HZP. Probele sunt recunoscute international de catre F.C.I – A.C.H.R\, sub egida carora sunt organizate. \nPentru informatii suplimentare si inscrieri va rugam contactati: \nDl. Florin Sabau la tel: 0731 835 303\,  cat si la e-mail:  clubcnca@yahoo.com. \nVa asteptam! \n 
URL:https://cnca.ro/eveniment/probe-lucru-solms-azp-28-29-octombrie-2017-balaia-oradea/
LOCATION:Balaia\, str. Calea Clujului\, benzinaria  SOCAR\, ora 7.30\, Oradea\, România
END:VEVENT
BEGIN:VEVENT
DTSTART;TZID=Europe/Bucharest:20171021T070000
DTEND;TZID=Europe/Bucharest:20171022T170000
DTSTAMP:20260419T203510
CREATED:20171001T071315Z
LAST-MODIFIED:20171004T081427Z
UID:26084-1508569200-1508691600@cnca.ro
SUMMARY:Probe de lucru SOLMS\, AZP\, HZP  21 - 22 octombrie 2017- SLATINA
DESCRIPTION:In datele de 21 – 22 octombrie 2017 CNCA organizeaza\, sub egida AChR – FCI\, probe de lucru pentru caini de aret: SOLMS\, HZP\, AZP\, la Slatina – Scornicesti. \nProbele sunt recunoscute de Cluburile mondiale de brac german cu par scurt si par sarmos la care CNCA este afiliat. \nProbele de lucru vor incepe la ora 7:00 \nPentru orice detalii despre organizare va rugam contactati telefonic: D-nul Andrei Eremia – 0752.577.335 \nPentru informatii legate de arbitrii prezenti\, regulamente si alte conformitati\, va rugam sa contactati telefonic: D-na Mariana Murarescu(Vicepresedinte )- 0744.537.477 si   D-nul Ciprian Todea(Presedinte) – 0744.772.637. \nArbitrii invitati: Sorin Manea\, Andrea Adigrat\, Marton Sandor\, Cezar Palii. \nDe asemenea\, va puteti inscrie si online pe site-ul clubului la rubrica evenimentului sau la e-mail: clubcnca@yahoo.com.  \nData limita a inscrierilor va fi 15 octombrie 2017! \nTaxa de participare 150 ron/caine.
URL:https://cnca.ro/eveniment/probe-de-lucru-solms-azp-hzp-2122-octombrie-2017-slatina/
LOCATION:Slatina – Complex Rusciori Scornicesti
ATTACH;FMTTYPE=image/png:https://cnca.ro/wp-content/uploads/2017/10/logob.png
END:VEVENT
BEGIN:VEVENT
DTSTART;VALUE=DATE:20171011
DTEND;VALUE=DATE:20171016
DTSTAMP:20260419T203510
CREATED:20170803T075646Z
LAST-MODIFIED:20171004T080355Z
UID:26007-1507680000-1508111999@cnca.ro
SUMMARY:Concurs 5 x C.A.C.I.T. 11-15 octombrie 2017 CRAIOVA (Calafat) pentru caini de aret
DESCRIPTION:In perioada 11 – 15 octombrie\, sub egida AChR – FCI\, CNCA organizeaza 5 zile de CACIT pentru caini de aret continentali si insulari (field trial de toamna) in zona Craiova – Calafat\, pe fondurile de vanatoare puse la dispozitie\, ca de fiecare data\, de Asociatia de Vanatoare Artemis (dl. Valentin Udrea). \nIn cadrul acestor probe\, in zilele de 11 – 12 octombrie\, vor fi evaluati cainii in vederea participarii la campionatele internationale (field trial de toamna si vanatoare practica) ce se vor desfasura in Spania si Franta in perioada 21 – 31 octombrie: Campionatul Mondial de Brac German cu Par Scurt\, Cupa Mediteraneana\, Campionatul Mondial pentru Caini de Aret Continentali si Insulari\, Campionatul European Setter Englez. \nArbitri invitati: Andrea Adigrat\, Mihai Bocanescu\, Sorin Manea\, Adrian Duta\, Cezar Palii\, Dan Murarescu.\nPentru informatii suplimentare si inscrieri va rugam contactati dna. Mariana Murarescu la telefon: 0744537477\, fax: 0244577799 sau e-mail:  clubcnca@yahoo.com \nMariana Murarescu \nClubul National Caini de Aret\nwww.cnca.ro\nclubcnca@yahoo.com
URL:https://cnca.ro/eveniment/concurs-5-x-c-a-c-i-t-craiova-calafat-pentru-caini-de-aret-continentali-si-insulari/
LOCATION:Calafat\, Calafat\, Craiova\, 205200
CATEGORIES:Evenimente
ATTACH;FMTTYPE=image/jpeg:https://cnca.ro/wp-content/uploads/2017/08/cacit-oct-2017-ro.jpg
ORGANIZER;CN="Clubul National Caini De Aret sub egida A.C.H.R. & F.C.I.":MAILTO:clubcnca@yahoo.com
END:VEVENT
BEGIN:VEVENT
DTSTART;VALUE=DATE:20170929
DTEND;VALUE=DATE:20171002
DTSTAMP:20260419T203510
CREATED:20170803T074452Z
LAST-MODIFIED:20170803T074829Z
UID:26003-1506643200-1506902399@cnca.ro
SUMMARY:28. INTERNATIONALE KURZHAAR PRÜFUNG
DESCRIPTION:In perioada 29septembrie – 01 octombrie se va desfasura in Ungaria IKP 2017. Anul acesta suntem mandri sa avem 3 caini inscrisi din ROMANIA\, membri din cadrul Clubului National Caini de Aret: \n\n\n\n\nDynna vom Engelsheim   – Ciprian Todea \nHunter Pasion Alex – Florin Sabau \nCinka Samuhazi Vadasz – Florin Sabau \n\n\n\n\n \n\n28. INTERNATIONALE KURZHAAR PRÜFUNG\n\n\n\n\nhttp://www.ikp2017.com/wp-content/uploads/2017/07/Nennliste-IKP-1.pdf
URL:https://cnca.ro/eveniment/28-internationale-kurzhaar-prufung/
LOCATION:KECSKEMÉT\, Ungaria
END:VEVENT
BEGIN:VEVENT
DTSTART;VALUE=DATE:20170916
DTEND;VALUE=DATE:20170918
DTSTAMP:20260419T203510
CREATED:20170803T073700Z
LAST-MODIFIED:20170915T101750Z
UID:26000-1505520000-1505692799@cnca.ro
SUMMARY:Probe de lucru SOLMS\, HZP\, AZP pentru caini de aret in perioada 16-17 Septembrie 2017 GREACA( langa Bucuresti)
DESCRIPTION:In datele de 16 – 17 septembrie 2017 CNCA organizeaza\, sub egida AChR – FCI\, probe de lucru pentru caini de aret: SOLMS\, HZP\, AZP\, la Greaca (langa Bucuresti). Probele se vor desfasura pe fondul de vanatoare AVPS Vulturul prin amabiliatatea D-lui Director Catalin Eliad. \nProbele sunt recunoscute de cluburile mondiale de brac german cu par scurt si par sarmos la care CNCA este afiliat. \nIntalnirea va avea loc sambata\, 16 septembrie\, incepand cu ora 6.00 la Complexul DOMENIUL GREACA. \nProbele de lucru vor incepe la ora 7:00 \nPentru orice detalii despre organizare va rugam contactati telefonic: D-nul Cristian Misici – 0724.333.181. \nPentru informatii legate de arbitrii prezenti\, regulamente si alte conformitati\, va rugam sa contactati telefonic: D-na Mariana Murarescu(Vicepresedinte )- 0744.537.477 si   D-nul Ciprian Todea(Presedinte) – 0744.772.637. \nDe asemenea va puteti inscrie si online pe site-ul clubului la rubrica evenimentului sau la e-mail: clubcnca@yahoo.com. \nTaxa de participare 120 ron/caine si \nProgramul desfasurat al evenimnetului: \n6.00 – 6.30     Welcome coffe si prezentarea cainilor ( intalnirea participantilor\, arbitrilor si spectatorilor la complexul hotelier Domeniul Greaca); \n6.45                      Plecarea spre proba de camp \n7.00 – 10.00       Desfasurarea probei de camp \n10.15                    Plecarea spre proba de balta \n10.30 – 11.30      Desfasurarea probei de apa \n11.45 – 12.45       Desfasurarea probei de urma tarata \n13.30 – 15.00     Pranzul oficial la restaurantul Domeniul Greaca \n15.30 – 16.00     Decernarea premiilor \n16.00 – 16.30     Intrebari si raspunsuri\, eventuale contestatii\, socializare \nArbitri internationali: Borivoje Kostic(Serbia)\, Zivorad Djordjevic(Serbia)\, Dan Murarescu(Romania)\, Mariana Murarescu(Romania). \nVa asteptam! \nConducerea CNCA \n 
URL:https://cnca.ro/eveniment/probe-de-lucru-solms-hzp-azp-pentru-caini-de-aret-in-perioada-16-17-septembrie-2017-greaca-langa-bucuresti/
LOCATION:Domeniul Greaca incepand cu ora 6.00-6.30\, Comuna Greaca\, jud. Giurgiu
ORGANIZER;CN="Clubul National Caini de Aret Romania%2C sub egida A.C.H.R & F.C.I":MAILTO:clubcnca@yahoo.com
END:VEVENT
BEGIN:VEVENT
DTSTART;TZID=Europe/Bucharest:20170513T100000
DTEND;TZID=Europe/Bucharest:20170513T130000
DTSTAMP:20260419T203510
CREATED:20170505T184056Z
LAST-MODIFIED:20170505T184439Z
UID:25978-1494669600-1494680400@cnca.ro
SUMMARY:Adunarea generala CNCA 2017
DESCRIPTION:Ordinea de zi a Adunarii Generale CNCA : \n1. Prezentarea raportului de activitate CNCA pe anul 2016 ;\n2. Prezentarea raportului cenzorului pentru exercitiul financiar al anului 2016 ;\n3. Aprobarea bilantului financiar- contabil pe anul 2016 ;\n4. Aprobarea bugetului de venituri si cheltuieli pe anul 2017 ;\n5. Premierea membrilor CNCA care si-au adus contributia la la dezvoltarea activitatilor CNCA in perioada 2007 – 2017 ;\n6. Descarcarea de sarcini a Consiliului Director si a Comisiei de Etica si Disciplina ;\n7. Alegerea pentru urmatorul mandat de 4 ani a Consiliului Director si a Comisiei de Etica si Disciplina .
URL:https://cnca.ro/eveniment/adunarea-generala-cnca-2017/
LOCATION:Complex Laguna Albastra\, Fagaras\, jud.Brasov
ORGANIZER;CN="Clubul National Caini De Aret sub egida A.C.H.R. & F.C.I.":MAILTO:clubcnca@yahoo.com
END:VEVENT
BEGIN:VEVENT
DTSTART;TZID=Europe/Bucharest:20170429T070000
DTEND;TZID=Europe/Bucharest:20170430T140000
DTSTAMP:20260419T203510
CREATED:20170411T150232Z
LAST-MODIFIED:20170426T053000Z
UID:25920-1493449200-1493560800@cnca.ro
SUMMARY:Probe de lucru Derby\, Vjp pentru caini de aret in perioada 29-30 Aprilie 2017 GREACA( langa Bucuresti)
DESCRIPTION:Pe datele de 29 – 30 aprilie 2017 CNCA organizeaza\, sub egida AChR – FCI\, probe de lucru pentru caini de aret (Derby – pentru bracul german cu par scurt si VJP – pentru bracul german cu par sarmos) la Greaca (Giurgiu). Probele se vor desfasura pe fondul de vanatoare AVPS Vulturul.  \nProbele sunt recunoscute de cluburile mondiale de brac german cu par scurt si par sarmos la care CNCA este afiliat. \nIntalnirea va avea loc sambata\, 29 aprilie\, la ora 6\,30 la benzinaria de la iesirea din Comuna Frumusani spre Oltenita. \nArbitrii invitati: Murarescu Daniel\, Balint Anton\, Talpes Vladimir si Bocanescu Mihai. \nProbele de lucru vor incepe la ora 7:00 \nPentru orice detalii va rugam contactati telefonic: Dna. Murarescu Mariana – 0744537477\, Dl. Murarescu Daniel – 0740054055 sau Dl. Bocanescu Mihai – 0742100378 \nDe asemenea va puteti inscrie si online pe site-ul clubului la rubrica evenimentului sau la e-mail:  clubcnca@yahoo.com.\nTaxa de participare 120ron/caine. \nVa asteptam!
URL:https://cnca.ro/eveniment/probe-de-lucru-pantru-caini-de-aren-in-perioada-29-30-aprilie-2017-greacabucuresti/
LOCATION:Domeniul Greaca incepand cu ora 6.00-6.30\, Comuna Greaca\, jud. Giurgiu
CATEGORIES:Evenimente
ORGANIZER;CN="Clubul National Caini De Aret sub egida A.C.H.R. & F.C.I.":MAILTO:clubcnca@yahoo.com
END:VEVENT
BEGIN:VEVENT
DTSTART;VALUE=DATE:20170408
DTEND;VALUE=DATE:20170410
DTSTAMP:20260419T203510
CREATED:20170323T110442Z
LAST-MODIFIED:20170404T182833Z
UID:25559-1491609600-1491782399@cnca.ro
SUMMARY:Probe lucru DERBY\, V.J.P. 8-9 Aprilie 2017 - Balaia\, Oradea
DESCRIPTION:In perioada 8-9 Aprilie 2017 in localitatea Balaia\, jud. Bihor\, CNCA organizeaza 2 zile de probe de lucru pentru caini pontatori: DERBY SI V.J.P. Probele sunt recunoscute international de catre F.C.I – A.C.H.R\, sub egida carora sunt organizate.\nPentru informatii suplimentare si inscrieri va rugam contactati: \nDl. Cosmin Tenghea la tel: 0744 397 035 sau Dl. Florin Sabau la tel: 0731 835 303\,  cat si la e-mail:  clubcnca@yahoo.com. \nVa asteptam!
URL:https://cnca.ro/eveniment/probe-lucru-derby-vjp-balaia-2017/
LOCATION:Oradea\, Str. Calea Clujului\, benzinaria SOCAR\, ora 7.30\, România
CATEGORIES:Evenimente
ORGANIZER;CN="Clubul National Caini de Aret Romania%2C sub egida A.C.H.R & F.C.I":MAILTO:clubcnca@yahoo.com
END:VEVENT
BEGIN:VEVENT
DTSTART;TZID=Europe/Bucharest:20170405T000000
DTEND;TZID=Europe/Bucharest:20170409T235900
DTSTAMP:20260419T203510
CREATED:20170323T103209Z
LAST-MODIFIED:20170404T163939Z
UID:25542-1491350400-1491782340@cnca.ro
SUMMARY:Concurs Cacit 5-9 Aprilie 2017 – Craiova-Calafat
DESCRIPTION:In perioada 5-9 Aprilie 2017 la Craiova – Calafat\, CNCA organizeaza 5 zile de CACIT (field trial pe potarniche naturala) pentru caini pontatori continentali si insulari. Probele sunt recunoscute international de catre F.C.I – A.C.H.R\, sub egida carora sunt organizate.\nPentru informatii suplimentare si inscrieri va rugam contactati dna. Mariana Murarescu la telefon: 0744537477\, fax: 0244577799 sau e-mail:  clubcnca@yahoo.com \nVa asteptam!
URL:https://cnca.ro/eveniment/concurs-cacit-5-9-aprilie-2017-craiova-calafat/
LOCATION:Calafat\, Calafat\, Craiova\, 205200
CATEGORIES:Evenimente
ORGANIZER;CN="Clubul National Caini De Aret sub egida A.C.H.R. & F.C.I.":MAILTO:clubcnca@yahoo.com
END:VEVENT
BEGIN:VEVENT
DTSTART;TZID=UTC:20170316T083000
DTEND;TZID=UTC:20170317T170000
DTSTAMP:20260419T203510
CREATED:20170315T220037Z
LAST-MODIFIED:20260115T113326Z
UID:1076-1489653000-1489770000@cnca.ro
SUMMARY:Concurs 16-17 Martie 2017 (Ploiesti)
DESCRIPTION:Expozitia de Club va incepe la ora 9\,00 (va rugam sa fiti prezenti in jurul orei 8\,30 – pentru a nu intarzia probele de lucru ce se vor desfasura imediat dupa standard) la Parcul Bucov – Poligonul AJVPS. \nProbele de lucru se vor desfasura in continuare\, pe fondul Plopu\, localitatea Bucov – in imediata vecinatate a parcului. In cazul in care nu vor putea fi examinati la examenele de lucru toti cainii sambata\, vom continua duminica (17.03) dupa programul ce va fi stabilit pe loc.\nPentru orice detalii\, relatii suplimentare va rog sa contactati telefonic: Mariana Murarescu – 0744537477.\nIncercam sa organizam toate probele in aceeasi zi\, de aceea va rugam sa fiti punctuali la Expozitia de club !
URL:https://cnca.ro/eveniment/program-concurs-ploiesti-16-17-martie/
LOCATION:Ploiesti\, Parcul Bucov - Poligonul AJVPS\, Ploiesti\, Prahova\, Romania
CATEGORIES:Evenimente
ORGANIZER;CN="Clubul National Caini De Aret sub egida A.C.H.R. & F.C.I.":MAILTO:clubcnca@yahoo.com
END:VEVENT
BEGIN:VEVENT
DTSTART;TZID=UTC:20161011T080000
DTEND;TZID=UTC:20161016T170000
DTSTAMP:20260419T203510
CREATED:20161010T210054Z
LAST-MODIFIED:20260129T133125Z
UID:1072-1476172800-1476637200@cnca.ro
SUMMARY:Concurs Cacit 11-16 Octombrie 2016 (Craiova-Calafat)
DESCRIPTION:In perioada 11 – 16 octombrie la Craiova – Calafat\, CNCA organizeaza 6 zile de CACIT (field trial pe potarniche naturala) pentru caini pontatori continentali si insulari. Probele sunt recunoscute international de catre FCI – AChR\, sub egida carora sunt organizate.\nPentru informatii suplimentare si inscrieri va rugam contactati dna.  Mariana Murarescu la telefon: 0744537477\, fax: 0244577799 sau e-mail: clubcnca@yahoo.com  \nVa asteptam!
URL:https://cnca.ro/eveniment/concurs-cacit-11-16-octombrie-2016-craiova-calafat/
LOCATION:Calafat\, Calafat\, Craiova\, 205200
CATEGORIES:Evenimente
ORGANIZER;CN="Clubul National Caini De Aret sub egida A.C.H.R. & F.C.I.":MAILTO:clubcnca@yahoo.com
END:VEVENT
BEGIN:VEVENT
DTSTART;TZID=UTC:20160330T083000
DTEND;TZID=UTC:20160331T170000
DTSTAMP:20260419T203510
CREATED:20160329T210024Z
LAST-MODIFIED:20260115T112616Z
UID:1079-1459326600-1459443600@cnca.ro
SUMMARY:Concurs 30-31 Martie (Ploiesti)
DESCRIPTION:Expozitia de Club va incepe la ora 9\,00 (va rugam sa fiti prezenti in jurul orei 8\,30 – pentru a nu intarzia probele de lucru ce se vor desfasura imediat dupa standard) la Parcul Bucov – Poligonul AJVPS. \nProbele de lucru se vor desfasura in continuare\, pe fondul Plopu\, localitatea Bucov – in imediata vecinatate a parcului. In cazul in care nu vor putea fi examinati la examenele de lucru toti cainii sambata\, vom continua duminica (31.03) dupa programul ce va fi stabilit pe loc.\nPentru orice detalii\, relatii suplimentare va rog sa contactati telefonic: Mariana Murarescu – 0744537477.\nIncercam sa organizam toate probele in aceeasi zi\, de aceea va rugam sa fiti punctuali la Expozitia de club ! \nAccesati AICI linkul concursului.
URL:https://cnca.ro/eveniment/program-concurs-ploiesti-30-31-martie/
LOCATION:Ploiesti\, Parcul Bucov - Poligonul AJVPS\, Ploiesti\, Prahova\, Romania
CATEGORIES:Evenimente
ORGANIZER;CN="Clubul National Caini De Aret sub egida A.C.H.R. & F.C.I.":MAILTO:clubcnca@yahoo.com
END:VEVENT
END:VCALENDAR