BEGIN:VCALENDAR
VERSION:2.0
PRODID:-//CNCA - ECPv6.15.15//NONSGML v1.0//EN
CALSCALE:GREGORIAN
METHOD:PUBLISH
X-WR-CALNAME:CNCA
X-ORIGINAL-URL:https://cnca.ro/?lang=en
X-WR-CALDESC:Events for CNCA
REFRESH-INTERVAL;VALUE=DURATION:PT1H
X-Robots-Tag:noindex
X-PUBLISHED-TTL:PT1H
BEGIN:VTIMEZONE
TZID:Europe/Bucharest
BEGIN:DAYLIGHT
TZOFFSETFROM:+0200
TZOFFSETTO:+0300
TZNAME:EEST
DTSTART:20160327T010000
END:DAYLIGHT
BEGIN:STANDARD
TZOFFSETFROM:+0300
TZOFFSETTO:+0200
TZNAME:EET
DTSTART:20161030T010000
END:STANDARD
BEGIN:DAYLIGHT
TZOFFSETFROM:+0200
TZOFFSETTO:+0300
TZNAME:EEST
DTSTART:20170326T010000
END:DAYLIGHT
BEGIN:STANDARD
TZOFFSETFROM:+0300
TZOFFSETTO:+0200
TZNAME:EET
DTSTART:20171029T010000
END:STANDARD
BEGIN:DAYLIGHT
TZOFFSETFROM:+0200
TZOFFSETTO:+0300
TZNAME:EEST
DTSTART:20180325T010000
END:DAYLIGHT
BEGIN:STANDARD
TZOFFSETFROM:+0300
TZOFFSETTO:+0200
TZNAME:EET
DTSTART:20181028T010000
END:STANDARD
BEGIN:DAYLIGHT
TZOFFSETFROM:+0200
TZOFFSETTO:+0300
TZNAME:EEST
DTSTART:20190331T010000
END:DAYLIGHT
BEGIN:STANDARD
TZOFFSETFROM:+0300
TZOFFSETTO:+0200
TZNAME:EET
DTSTART:20191027T010000
END:STANDARD
BEGIN:DAYLIGHT
TZOFFSETFROM:+0200
TZOFFSETTO:+0300
TZNAME:EEST
DTSTART:20200329T010000
END:DAYLIGHT
BEGIN:STANDARD
TZOFFSETFROM:+0300
TZOFFSETTO:+0200
TZNAME:EET
DTSTART:20201025T010000
END:STANDARD
BEGIN:DAYLIGHT
TZOFFSETFROM:+0200
TZOFFSETTO:+0300
TZNAME:EEST
DTSTART:20210328T010000
END:DAYLIGHT
BEGIN:STANDARD
TZOFFSETFROM:+0300
TZOFFSETTO:+0200
TZNAME:EET
DTSTART:20211031T010000
END:STANDARD
BEGIN:DAYLIGHT
TZOFFSETFROM:+0200
TZOFFSETTO:+0300
TZNAME:EEST
DTSTART:20220327T010000
END:DAYLIGHT
BEGIN:STANDARD
TZOFFSETFROM:+0300
TZOFFSETTO:+0200
TZNAME:EET
DTSTART:20221030T010000
END:STANDARD
BEGIN:DAYLIGHT
TZOFFSETFROM:+0200
TZOFFSETTO:+0300
TZNAME:EEST
DTSTART:20230326T010000
END:DAYLIGHT
BEGIN:STANDARD
TZOFFSETFROM:+0300
TZOFFSETTO:+0200
TZNAME:EET
DTSTART:20231029T010000
END:STANDARD
BEGIN:DAYLIGHT
TZOFFSETFROM:+0200
TZOFFSETTO:+0300
TZNAME:EEST
DTSTART:20240331T010000
END:DAYLIGHT
BEGIN:STANDARD
TZOFFSETFROM:+0300
TZOFFSETTO:+0200
TZNAME:EET
DTSTART:20241027T010000
END:STANDARD
BEGIN:DAYLIGHT
TZOFFSETFROM:+0200
TZOFFSETTO:+0300
TZNAME:EEST
DTSTART:20250330T010000
END:DAYLIGHT
BEGIN:STANDARD
TZOFFSETFROM:+0300
TZOFFSETTO:+0200
TZNAME:EET
DTSTART:20251026T010000
END:STANDARD
END:VTIMEZONE
BEGIN:VTIMEZONE
TZID:UTC
BEGIN:STANDARD
TZOFFSETFROM:+0000
TZOFFSETTO:+0000
TZNAME:UTC
DTSTART:20150101T000000
END:STANDARD
END:VTIMEZONE
BEGIN:VEVENT
DTSTART;VALUE=DATE:20240326
DTEND;VALUE=DATE:20240331
DTSTAMP:20260419T220339
CREATED:20240611T105651Z
LAST-MODIFIED:20240611T105651Z
UID:26316-1711411200-1711843199@cnca.ro
SUMMARY:Competiţii de tip field trial CACIT la Caracal/Calafat – 26-30 martie 2024
DESCRIPTION:In perioada 26 – 30 martie 2024 se desfasura la Caracal competitii CACIT pentru caini de aret insulari si continentali (field trial de primavara: caccia starne si grande cerca).\n\nCompetitiile sunt cuprinse in calendarul AChR – FCI.
URL:https://cnca.ro/eveniment/competitii-de-tip-field-trial-cacit-26-30-martie-2024/?lang=en
LOCATION:Calafat\, Calafat\, Craiova\, 205200
ORGANIZER;CN="Asociatia  'Clubul National Caini De Aret'":MAILTO:clubcnca@yahoo.com
END:VEVENT
BEGIN:VEVENT
DTSTART;TZID=Europe/Bucharest:20170405T000000
DTEND;TZID=Europe/Bucharest:20170409T235900
DTSTAMP:20260419T220339
CREATED:20170323T103209Z
LAST-MODIFIED:20170404T142256Z
UID:25664-1491350400-1491782340@cnca.ro
SUMMARY:Concurs Cacit 5-9 Aprilie 2017 – Craiova-Calafat
DESCRIPTION:In perioada 5-9 Aprilie 2017 la Craiova – Calafat\, CNCA organizeaza 5 zile de CACIT (field trial pe potarniche naturala) pentru caini pontatori continentali si insulari. Probele sunt recunoscute international de catre FCI – AChR\, sub egida carora sunt organizate.\nPentru informatii suplimentare si inscrieri va rugam contactati dna. Mariana Murarescu la telefon: 0744537477\, fax: 0244577799 sau e-mail:  clubcnca@yahoo.com \nVa asteptam!
URL:https://cnca.ro/eveniment/concurs-cacit-5-9-aprilie-2017-craiova-calafat/?lang=en
LOCATION:Calafat\, Calafat\, Craiova\, 205200
CATEGORIES:Events
ORGANIZER;CN="Asociatia  'Clubul National Caini De Aret'":MAILTO:clubcnca@yahoo.com
END:VEVENT
BEGIN:VEVENT
DTSTART;TZID=UTC:20170403T080000
DTEND;TZID=UTC:20170403T170000
DTSTAMP:20260419T220339
CREATED:20170403T081234Z
LAST-MODIFIED:20170403T081234Z
UID:25663-1491206400-1491238800@cnca.ro
SUMMARY:Probe lucru Derby\, Vjp 8-9 Aprilie 2017 - Balaia\, Oradea
DESCRIPTION:
URL:https://cnca.ro/eveniment/probe-lucru-derby-vjp-8-9-aprilie-2017-balaia-oradea/?lang=en
ORGANIZER;CN="Asociatia  'Clubul National Caini De Aret'":MAILTO:clubcnca@yahoo.com
END:VEVENT
BEGIN:VEVENT
DTSTART;TZID=UTC:20170316T083000
DTEND;TZID=UTC:20170317T170000
DTSTAMP:20260419T220339
CREATED:20170317T173359Z
LAST-MODIFIED:20170317T173359Z
UID:25451-1489653000-1489770000@cnca.ro
SUMMARY:Program Concurs Ploiesti 16-17 Martie
DESCRIPTION:Expozitia de Club va incepe la ora 9\,00 (va rugam sa fiti prezenti in jurul orei 8\,30 – pentru a nu intarzia probele de lucru ce se vor desfasura imediat dupa standard) la Parcul Bucov – Poligonul AJVPS. \nProbele de lucru se vor desfasura in continuare\, pe fondul Plopu\, localitatea Bucov – in imediata vecinatate a parcului. In cazul in care nu vor putea fi examinati la examenele de lucru toti cainii sambata\, vom continua duminica (17.03) dupa programul ce va fi stabilit pe loc.\nPentru orice detalii\, relatii suplimentare va rog sa contactati telefonic: Mariana Murarescu – 0744537477.\nIncercam sa organizam toate probele in aceeasi zi\, de aceea va rugam sa fiti punctuali la Expozitia de club!
URL:https://cnca.ro/eveniment/program-concurs-ploiesti-16-17-martie/?lang=en
LOCATION:Ploiesti\, Parcul Bucov - Poligonul AJVPS\, Ploiesti\, Prahova\, Romania
CATEGORIES:Events
ORGANIZER;CN="Asociatia  'Clubul National Caini De Aret'":MAILTO:clubcnca@yahoo.com
END:VEVENT
BEGIN:VEVENT
DTSTART;TZID=UTC:20160330T083000
DTEND;TZID=UTC:20160331T170000
DTSTAMP:20260419T220339
CREATED:20170317T173138Z
LAST-MODIFIED:20170317T173138Z
UID:25446-1459326600-1459443600@cnca.ro
SUMMARY:Program Concurs Ploiesti 30-31 Martie
DESCRIPTION:Expozitia de Club va incepe la ora 9\,00 (va rugam sa fiti prezenti in jurul orei 8\,30 – pentru a nu intarzia probele de lucru ce se vor desfasura imediat dupa standard) la Parcul Bucov – Poligonul AJVPS. \nProbele de lucru se vor desfasura in continuare\, pe fondul Plopu\, localitatea Bucov – in imediata vecinatate a parcului. In cazul in care nu vor putea fi examinati la examenele de lucru toti cainii sambata\, vom continua duminica (31.03) dupa programul ce va fi stabilit pe loc.\nPentru orice detalii\, relatii suplimentare va rog sa contactati telefonic: Mariana Murarescu – 0744537477.\nIncercam sa organizam toate probele in aceeasi zi\, de aceea va rugam sa fiti punctuali la Expozitia de club! \nAccesati AICI linkul concursului.
URL:https://cnca.ro/eveniment/program-concurs-ploiesti-30-31-martie/?lang=en
LOCATION:Ploiesti\, Parcul Bucov - Poligonul AJVPS\, Ploiesti\, Prahova\, Romania
CATEGORIES:Events
ORGANIZER;CN="Asociatia  'Clubul National Caini De Aret'":MAILTO:clubcnca@yahoo.com
END:VEVENT
END:VCALENDAR